BEGIN:VCALENDAR
VERSION:2.0
PRODID:icalendar-ruby
CALSCALE:GREGORIAN
METHOD:PUBLISH
BEGIN:VEVENT
DTSTAMP:20260424T181640Z
UID:5-406468@restorechurch.tithelysetup8.com
DTSTART:20261018T173000Z
DTEND:20261018T183000Z
CLASS:PUBLIC
CREATED:20260424T101038
DESCRIPTION:Sunday Worship
LAST-MODIFIED:20260424T101038
LOCATION:
SUMMARY:Sunday Worship
URL;VALUE=URI:https://restorechurch.tithelysetup8.com/events/sunday-worship
 /2026-10-18
END:VEVENT
END:VCALENDAR
