BEGIN:VCALENDAR
VERSION:2.0
PRODID:icalendar-ruby
CALSCALE:GREGORIAN
METHOD:PUBLISH
BEGIN:VEVENT
DTSTAMP:20260424T212547Z
UID:5-406731@restorechurch.tithelysetup8.com
DTSTART:20261101T183000Z
DTEND:20261101T193000Z
CLASS:PUBLIC
CREATED:20260424T125723
DESCRIPTION:Sunday Worship
LAST-MODIFIED:20260424T125723
LOCATION:
SUMMARY:Sunday Worship
URL;VALUE=URI:https://restorechurch.tithelysetup8.com/events/sunday-worship
 /2026-11-01
END:VEVENT
END:VCALENDAR
